BEGIN:VCALENDAR
VERSION:2.0
PRODID:-//YA Center - ECPv6.15.20//NONSGML v1.0//EN
CALSCALE:GREGORIAN
METHOD:PUBLISH
X-WR-CALNAME:YA Center
X-ORIGINAL-URL:https://yacenter.org
X-WR-CALDESC:Events for YA Center
REFRESH-INTERVAL;VALUE=DURATION:PT1H
X-Robots-Tag:noindex
X-PUBLISHED-TTL:PT1H
BEGIN:VTIMEZONE
TZID:America/Denver
BEGIN:DAYLIGHT
TZOFFSETFROM:-0700
TZOFFSETTO:-0600
TZNAME:MDT
DTSTART:20240310T090000
END:DAYLIGHT
BEGIN:STANDARD
TZOFFSETFROM:-0600
TZOFFSETTO:-0700
TZNAME:MST
DTSTART:20241103T080000
END:STANDARD
BEGIN:DAYLIGHT
TZOFFSETFROM:-0700
TZOFFSETTO:-0600
TZNAME:MDT
DTSTART:20250309T090000
END:DAYLIGHT
BEGIN:STANDARD
TZOFFSETFROM:-0600
TZOFFSETTO:-0700
TZNAME:MST
DTSTART:20251102T080000
END:STANDARD
BEGIN:DAYLIGHT
TZOFFSETFROM:-0700
TZOFFSETTO:-0600
TZNAME:MDT
DTSTART:20260308T090000
END:DAYLIGHT
BEGIN:STANDARD
TZOFFSETFROM:-0600
TZOFFSETTO:-0700
TZNAME:MST
DTSTART:20261101T080000
END:STANDARD
END:VTIMEZONE
BEGIN:VEVENT
DTSTART;VALUE=DATE:20250630
DTEND;VALUE=DATE:20250701
DTSTAMP:20260425T043122
CREATED:20250506T225502Z
LAST-MODIFIED:20250506T225502Z
UID:10000016-1751241600-1751327999@yacenter.org
SUMMARY:Youth Advisory Board Applications Due
DESCRIPTION:The Youth Advisory Board\, comprising 8th-12th graders\, embodies Young Americans’ ethos by gaining knowledge about its programs\, offering insights\, volunteering\, and fostering essential skills. We are seeking enthusiastic individuals to serve\, with no experience required.
URL:https://yacenter.org/event/youth-advisory-board-applications-due-2/
CATEGORIES:InternationalTowne,Teachers,Volunteers,Young Americans Bank,Young AmeriTowne,YouthBiz
ATTACH;FMTTYPE=application/pdf:https://yacenter.org/wp-content/uploads/2025/05/YouthBoardApplicationFlyer-25.26.pdf
END:VEVENT
BEGIN:VEVENT
DTSTART;VALUE=DATE:20250522
DTEND;VALUE=DATE:20250601
DTSTAMP:20260425T043122
CREATED:20250506T220020Z
LAST-MODIFIED:20250506T220020Z
UID:10000014-1747872000-1748735999@yacenter.org
SUMMARY:Complete a Deposit through CoinStar
DESCRIPTION:We’re celebrating all May long with four prize drawings! During each entry period\, one lucky winner will receive two movie tickets. \nHow it works:\n• Four separate drawings\, four opportunities to win.\n• Winners will be selected on the day following the end of each entry period.\n• Open to both new and existing customers!
URL:https://yacenter.org/event/complete-a-deposit-through-coinstar/
CATEGORIES:Young Americans Bank
ATTACH;FMTTYPE=image/jpeg:https://yacenter.org/wp-content/uploads/2025/05/May-the-Convenience-Be-With-You-scaled-1.jpg
END:VEVENT
BEGIN:VEVENT
DTSTART;VALUE=DATE:20250512
DTEND;VALUE=DATE:20250522
DTSTAMP:20260425T043122
CREATED:20250506T215852Z
LAST-MODIFIED:20251117T174849Z
UID:10000013-1747008000-1747871999@yacenter.org
SUMMARY:Complete a Mobile Deposit
DESCRIPTION:We’re celebrating all May long with four prize drawings! During each entry period\, one lucky winner will receive two movie tickets. \nHow it works:\n• Four separate drawings\, four opportunities to win.\n• Winners will be selected on the day following the end of each entry period.\n• Open to both new and existing customers!
URL:https://yacenter.org/event/complete-a-mobile-deposit/
CATEGORIES:Young Americans Bank
ATTACH;FMTTYPE=image/jpeg:https://yacenter.org/wp-content/uploads/2025/05/May-the-Convenience-Be-With-You-scaled-1.jpg
END:VEVENT
BEGIN:VEVENT
DTSTART;VALUE=DATE:20250501
DTEND;VALUE=DATE:20250601
DTSTAMP:20260425T043122
CREATED:20250506T215336Z
LAST-MODIFIED:20250506T215336Z
UID:10000011-1746057600-1748735999@yacenter.org
SUMMARY:Open a New Account through Online Account Opening
DESCRIPTION:We’re celebrating all May long with four prize drawings! During each entry period\, one lucky winner will receive two movie tickets. \nHow it works:\n• Four separate drawings\, four opportunities to win.\n• Winners will be selected on the day following the end of each entry period.\n• Open to both new and existing customers!
URL:https://yacenter.org/event/open-a-new-account-through-online-account-opening/
CATEGORIES:Young Americans Bank
ATTACH;FMTTYPE=image/jpeg:https://yacenter.org/wp-content/uploads/2025/05/May-the-Convenience-Be-With-You-scaled-1.jpg
END:VEVENT
BEGIN:VEVENT
DTSTART;VALUE=DATE:20250501
DTEND;VALUE=DATE:20250512
DTSTAMP:20260425T043122
CREATED:20250506T215720Z
LAST-MODIFIED:20250506T215720Z
UID:10000012-1746057600-1747007999@yacenter.org
SUMMARY:Enroll in Online Banking
DESCRIPTION:We’re celebrating all May long with four prize drawings! During each entry period\, one lucky winner will receive two movie tickets. \nHow it works:\n• Four separate drawings\, four opportunities to win.\n• Winners will be selected on the day following the end of each entry period.\n• Open to both new and existing customers!
URL:https://yacenter.org/event/enroll-in-online-banking/
CATEGORIES:Young Americans Bank
ATTACH;FMTTYPE=image/jpeg:https://yacenter.org/wp-content/uploads/2025/05/May-the-Convenience-Be-With-You-scaled-1.jpg
END:VEVENT
END:VCALENDAR